BEGIN:VCALENDAR
VERSION:2.0
PRODID:-//Doppelpunkt//Events//DE
CALSCALE:GREGORIAN
METHOD:PUBLISH
BEGIN:VEVENT
UID:event-2705@www.doppelpunkt.de
DTSTAMP:20260421T111721
DTSTART:20251204T180000
DTEND:20251204T180000
SUMMARY:Führung: "Art meets public - Ruth meets Martin"\, Kombiführung Kunsthaus und Neues Museum Nürnberg
LOCATION:Kunsthaus\, Königstr. 93\, 90402 Nürnberg
STATUS:CONFIRMED
END:VEVENT
END:VCALENDAR