BEGIN:VCALENDAR
VERSION:2.0
PRODID:-//Doppelpunkt//Events//DE
CALSCALE:GREGORIAN
METHOD:PUBLISH
BEGIN:VEVENT
UID:event-2702@www.doppelpunkt.de
DTSTAMP:20260421T111647
DTSTART:20251205T213000
DTEND:20251206T235900
SUMMARY:"Nürnberg Soul Weekender" mit den besten Raresoul-DJs
LOCATION:Künstlerhaus Festsaal\, Königstr. 93\, 90402 Nürnberg
STATUS:CONFIRMED
END:VEVENT
END:VCALENDAR