BEGIN:VCALENDAR
VERSION:2.0
PRODID:-//Doppelpunkt//Events//DE
CALSCALE:GREGORIAN
METHOD:PUBLISH
BEGIN:VEVENT
UID:event-2701@www.doppelpunkt.de
DTSTAMP:20260421T111600
DTSTART:20251206T200000
DTEND:20251206T200000
SUMMARY:Erzählbühne mit Michl Zirk: "Orientales"
LOCATION:Künstlerhaus Salon\, Königstr. 93\, 90402 Nürnberg
STATUS:CONFIRMED
END:VEVENT
END:VCALENDAR