BEGIN:VCALENDAR
VERSION:2.0
PRODID:-//Doppelpunkt//Events//DE
CALSCALE:GREGORIAN
METHOD:PUBLISH
BEGIN:VEVENT
UID:event-2700@www.doppelpunkt.de
DTSTAMP:20260421T111428
DTSTART:20251206T200000
DTEND:20251206T200000
SUMMARY:"Woke Schlampen"\, Queer-Festival mit Shows und Party
LOCATION:Künstlerhaus Soft Spot\, Königstr. 93\, 90429 Nürnberg
STATUS:CONFIRMED
END:VEVENT
END:VCALENDAR