BEGIN:VCALENDAR
VERSION:2.0
PRODID:-//Doppelpunkt//Events//DE
CALSCALE:GREGORIAN
METHOD:PUBLISH
BEGIN:VEVENT
UID:event-2699@www.doppelpunkt.de
DTSTAMP:20260421T111732
DTSTART:20251219T160000
DTEND:20251219T160000
SUMMARY:Erzählbühne mit Michl Zirk: "Unternehmen Weihnachtshase"\, ab 6 J.
LOCATION:Stadtbücherei Lauf\, Turnstr. 11\, 91207 Lauf/Peg.
STATUS:CONFIRMED
END:VEVENT
END:VCALENDAR