BEGIN:VCALENDAR
VERSION:2.0
PRODID:-//Doppelpunkt//Events//DE
CALSCALE:GREGORIAN
METHOD:PUBLISH
BEGIN:VEVENT
UID:event-2693@www.doppelpunkt.de
DTSTAMP:20260421T111600
DTSTART:20260207T200000
DTEND:20260207T200000
SUMMARY:Gebrüder Mühlleitner & Super-Band (Comedy/Ska/Funk/HipHop)
LOCATION:Kofferfabrik\, Lange Str. 81\, 90762 Fürth
STATUS:CONFIRMED
END:VEVENT
END:VCALENDAR