BEGIN:VCALENDAR
VERSION:2.0
PRODID:-//Doppelpunkt//Events//DE
CALSCALE:GREGORIAN
METHOD:PUBLISH
BEGIN:VEVENT
UID:event-2690@www.doppelpunkt.de
DTSTAMP:20260425T135611
DTSTART:20260130T200000
DTEND:20260130T200000
SUMMARY:The Jules Band (Blues/Soul)
LOCATION:Kofferfabrik\, Lange Str. 81\, 90762 Fürth
STATUS:CONFIRMED
END:VEVENT
END:VCALENDAR