BEGIN:VCALENDAR
VERSION:2.0
PRODID:-//Doppelpunkt//Events//DE
CALSCALE:GREGORIAN
METHOD:PUBLISH
BEGIN:VEVENT
UID:event-2689@www.doppelpunkt.de
DTSTAMP:20260425T135755
DTSTART:20260129T200000
DTEND:20260129T200000
SUMMARY:CCR Revival Band (Creedence Clearwater-Tribute)
LOCATION:Kofferfabrik\, Lange Str. 81\, 90762 Fürth
STATUS:CONFIRMED
END:VEVENT
END:VCALENDAR