BEGIN:VCALENDAR
VERSION:2.0
PRODID:-//Doppelpunkt//Events//DE
CALSCALE:GREGORIAN
METHOD:PUBLISH
BEGIN:VEVENT
UID:event-2688@www.doppelpunkt.de
DTSTAMP:20260425T135708
DTSTART:20260125T200000
DTEND:20260125T200000
SUMMARY:Mike Massé (Acoustic Classic-Rock)
LOCATION:Kofferfabrik\, Lange Str. 81\, 90762 Fürth
STATUS:CONFIRMED
END:VEVENT
END:VCALENDAR