BEGIN:VCALENDAR
VERSION:2.0
PRODID:-//Doppelpunkt//Events//DE
CALSCALE:GREGORIAN
METHOD:PUBLISH
BEGIN:VEVENT
UID:event-2686@www.doppelpunkt.de
DTSTAMP:20260425T135434
DTSTART:20260123T213000
DTEND:20260123T213000
SUMMARY:Hombres Sin Nombres (Rockabilly/Boogie/Rock'n'Roll)
LOCATION:Kofferfabrik\, Lange Str. 81\, 90762 Fürth
STATUS:CONFIRMED
END:VEVENT
END:VCALENDAR