BEGIN:VCALENDAR
VERSION:2.0
PRODID:-//Doppelpunkt//Events//DE
CALSCALE:GREGORIAN
METHOD:PUBLISH
BEGIN:VEVENT
UID:event-2685@www.doppelpunkt.de
DTSTAMP:20260425T141624
DTSTART:20260121T200000
DTEND:20260121T200000
SUMMARY:San2 mit Sebastian Schwarzenberger u. Ludwig Seuss (Blues/Soul/Pop)
LOCATION:Kofferfabrik\, Lange Str. 81\, 90762 Fürth
STATUS:CONFIRMED
END:VEVENT
END:VCALENDAR