BEGIN:VCALENDAR
VERSION:2.0
PRODID:-//Doppelpunkt//Events//DE
CALSCALE:GREGORIAN
METHOD:PUBLISH
BEGIN:VEVENT
UID:event-2684@www.doppelpunkt.de
DTSTAMP:20260425T135435
DTSTART:20260119T200000
DTEND:20260119T200000
SUMMARY:Big Wabbit Band (Bigband/Jazz)
LOCATION:Kofferfabrik\, Lange Str. 81\, 90762 Fürth
STATUS:CONFIRMED
END:VEVENT
END:VCALENDAR