BEGIN:VCALENDAR
VERSION:2.0
PRODID:-//Doppelpunkt//Events//DE
CALSCALE:GREGORIAN
METHOD:PUBLISH
BEGIN:VEVENT
UID:event-2681@www.doppelpunkt.de
DTSTAMP:20260425T142044
DTSTART:20260114T200000
DTEND:20260114T200000
SUMMARY:The Bomassa Experience (Tribute to Joe Bonamassa u. Beth Hart)
LOCATION:Kofferfabrik\, Lange Str. 81\, 90762 Fürth
STATUS:CONFIRMED
END:VEVENT
END:VCALENDAR