BEGIN:VCALENDAR
VERSION:2.0
PRODID:-//Doppelpunkt//Events//DE
CALSCALE:GREGORIAN
METHOD:PUBLISH
BEGIN:VEVENT
UID:event-2680@www.doppelpunkt.de
DTSTAMP:20260425T135445
DTSTART:20260111T110000
DTEND:20260111T110000
SUMMARY:Theater Lanzelot: "Der Grüffelo"\, Figurentheater\, ab 3. J.
LOCATION:Kofferfabrik\, Lange Str. 81\, 90762 Fürth
STATUS:CONFIRMED
END:VEVENT
END:VCALENDAR