BEGIN:VCALENDAR
VERSION:2.0
PRODID:-//Doppelpunkt//Events//DE
CALSCALE:GREGORIAN
METHOD:PUBLISH
BEGIN:VEVENT
UID:event-2679@www.doppelpunkt.de
DTSTAMP:20260425T122906
DTSTART:20260110T200000
DTEND:20260110T200000
SUMMARY:Crawlers from Venus (David Bowie-Cover)
LOCATION:Kofferfabrik\, Lange Str. 81\, 90762 Fürth
STATUS:CONFIRMED
END:VEVENT
END:VCALENDAR