BEGIN:VCALENDAR
VERSION:2.0
PRODID:-//Doppelpunkt//Events//DE
CALSCALE:GREGORIAN
METHOD:PUBLISH
BEGIN:VEVENT
UID:event-2677@www.doppelpunkt.de
DTSTAMP:20260421T105541
DTSTART:20251231T180000
DTEND:20251231T180000
SUMMARY:"70er Jahre Silvester"\, 5-Gänge-Dinner\, anschl. Party
LOCATION:Kofferfabrik\, Lange Str. 81\, 90762 Fürth
STATUS:CONFIRMED
END:VEVENT
END:VCALENDAR