BEGIN:VCALENDAR
VERSION:2.0
PRODID:-//Doppelpunkt//Events//DE
CALSCALE:GREGORIAN
METHOD:PUBLISH
BEGIN:VEVENT
UID:event-2664@www.doppelpunkt.de
DTSTAMP:20260425T122820
DTSTART:20251212T193000
DTEND:20251221T235900
SUMMARY:Döring'sche Theaterwerkstatt: "Advent\, Advent\, ein Englein brennt"\, die etwas andere Weihnachtsrevue
LOCATION:Kofferfabrik\, Lange Str. 81\, 90762 Fürth
STATUS:CONFIRMED
END:VEVENT
END:VCALENDAR