BEGIN:VCALENDAR
VERSION:2.0
PRODID:-//Doppelpunkt//Events//DE
CALSCALE:GREGORIAN
METHOD:PUBLISH
BEGIN:VEVENT
UID:event-2655@www.doppelpunkt.de
DTSTAMP:20260421T105624
DTSTART:20251203T200000
DTEND:20251203T200000
SUMMARY:GoCat (Trip Pop Blues)
LOCATION:Kofferfabrik\, Lange Str. 81\, 90762 Fürth
STATUS:CONFIRMED
END:VEVENT
END:VCALENDAR