BEGIN:VCALENDAR
VERSION:2.0
PRODID:-//Doppelpunkt//Events//DE
CALSCALE:GREGORIAN
METHOD:PUBLISH
BEGIN:VEVENT
UID:event-2652@www.doppelpunkt.de
DTSTAMP:20260425T121949
DTSTART:20251210T200000
DTEND:20251210T200000
SUMMARY:Sascha Grammel: "Wünsch dir was"\, Comedy
LOCATION:Kia Metropol Arena\, Dr.-Ingeborg-Bausenwein-Str. 1\, 90431 Nürnberg
STATUS:CONFIRMED
END:VEVENT
END:VCALENDAR