BEGIN:VCALENDAR
VERSION:2.0
PRODID:-//Doppelpunkt//Events//DE
CALSCALE:GREGORIAN
METHOD:PUBLISH
BEGIN:VEVENT
UID:event-2648@www.doppelpunkt.de
DTSTAMP:20260421T104648
DTSTART:20260109T200000
DTEND:20260109T200000
SUMMARY:Streichquartett der Nürnberger Symphoniker: Werke von Schubert u. Aho
LOCATION:Deutsches Museum Nürnberg - Zukunftsmuseum\, Augustinerhof 4\, 90403 Nürnberg
STATUS:CONFIRMED
END:VEVENT
END:VCALENDAR