BEGIN:VCALENDAR
VERSION:2.0
PRODID:-//Doppelpunkt//Events//DE
CALSCALE:GREGORIAN
METHOD:PUBLISH
BEGIN:VEVENT
UID:event-2646@www.doppelpunkt.de
DTSTAMP:20260419T164859
DTSTART:20260208T163000
DTEND:20260208T163000
SUMMARY:Nürnberger Symphoniker\, Dmitry Masleev (Klavier)\, Eduard Topchjan (Ltg.): "Rachmaninow und Scheherazade"\, Werke von Mozart\, Rachmaninov u. Rimsky-Korsakow
LOCATION:Meistersingerhalle\, Münchener Str. 21\, 90478 Nürnberg
STATUS:CONFIRMED
END:VEVENT
END:VCALENDAR