BEGIN:VCALENDAR
VERSION:2.0
PRODID:-//Doppelpunkt//Events//DE
CALSCALE:GREGORIAN
METHOD:PUBLISH
BEGIN:VEVENT
UID:event-2645@www.doppelpunkt.de
DTSTAMP:20260425T142214
DTSTART:20260124T200000
DTEND:20260124T200000
SUMMARY:Nürnberger Symphoniker\, Anna Lapwood (Orgel)\, David Reiland (Ltg.): "Orgelsymphonie"\, Werke von Bonis\, Jongen u. Saint.Saëns
LOCATION:Meistersingerhalle\, Münchener Str. 21\, 90478 Nürnberg
STATUS:CONFIRMED
END:VEVENT
END:VCALENDAR