BEGIN:VCALENDAR
VERSION:2.0
PRODID:-//Doppelpunkt//Events//DE
CALSCALE:GREGORIAN
METHOD:PUBLISH
BEGIN:VEVENT
UID:event-2644@www.doppelpunkt.de
DTSTAMP:20260425T135756
DTSTART:20260118T163000
DTEND:20260118T163000
SUMMARY:Nürnberger Symphoniker\, Claudio Bohórquez (Violoncello)\, Oscar Bohórquez (Violine)\, Jonathan Darlington (Ltg.): 11. Symphonisches Konzert mit Werken von Schubert\, Dvorák u. Brahms
LOCATION:Meistersingerhalle\, Münchener Str. 21\, 90478 Nürnberg
STATUS:CONFIRMED
END:VEVENT
END:VCALENDAR