BEGIN:VCALENDAR
VERSION:2.0
PRODID:-//Doppelpunkt//Events//DE
CALSCALE:GREGORIAN
METHOD:PUBLISH
BEGIN:VEVENT
UID:event-2643@www.doppelpunkt.de
DTSTAMP:20260421T032015
DTSTART:20260105T200000
DTEND:20260105T200000
SUMMARY:Nürnberger Symphoniker\, Bryan Cheng (Violoncello)\, Jonathan Darlington (Ltg.): Neujahrskonzert mit Werken von Debussy\, Lehár u.a.
LOCATION:Meistersingerhalle\, Münchener Str. 21\, 90478 Nürnberg
STATUS:CONFIRMED
END:VEVENT
END:VCALENDAR