BEGIN:VCALENDAR
VERSION:2.0
PRODID:-//Doppelpunkt//Events//DE
CALSCALE:GREGORIAN
METHOD:PUBLISH
BEGIN:VEVENT
UID:event-2642@www.doppelpunkt.de
DTSTAMP:20260421T032148
DTSTART:20260104T193000
DTEND:20260104T193000
SUMMARY:Nürnberger Symphoniker\, Bryan Cheng (Violoncello)\, Jonathan Darlington (Ltg.): Neujahrskonzert mit Werken von Debussy\, Lehár u.a.
LOCATION:Onoldiasaal\, Promenade\, 91522 Ansbach
STATUS:CONFIRMED
END:VEVENT
END:VCALENDAR