BEGIN:VCALENDAR
VERSION:2.0
PRODID:-//Doppelpunkt//Events//DE
CALSCALE:GREGORIAN
METHOD:PUBLISH
BEGIN:VEVENT
UID:event-2636@www.doppelpunkt.de
DTSTAMP:20260425T135448
DTSTART:20260128T200000
DTEND:20260128T200000
SUMMARY:Stephan Zinner: "Prachtexemplar"\, Musik-Kabarett
LOCATION:Tafelhalle\, Äußere Sulzbacher Str. 62\, 90491 Nürnberg
STATUS:CONFIRMED
END:VEVENT
END:VCALENDAR