BEGIN:VCALENDAR
VERSION:2.0
PRODID:-//Doppelpunkt//Events//DE
CALSCALE:GREGORIAN
METHOD:PUBLISH
BEGIN:VEVENT
UID:event-2635@www.doppelpunkt.de
DTSTAMP:20260425T135517
DTSTART:20260118T180000
DTEND:20260118T180000
SUMMARY:Abdelkarim: "Plan Z - Jetzt will er's wissen"\, Comedy
LOCATION:Tafelhalle\, Äußere Sulzbacher Str. 62\, 90491 Nürnberg
STATUS:CONFIRMED
END:VEVENT
END:VCALENDAR