BEGIN:VCALENDAR
VERSION:2.0
PRODID:-//Doppelpunkt//Events//DE
CALSCALE:GREGORIAN
METHOD:PUBLISH
BEGIN:VEVENT
UID:event-2634@www.doppelpunkt.de
DTSTAMP:20260425T123002
DTSTART:20260110T200000
DTEND:20260110T200000
SUMMARY:Verleihung Deutscher Kabarett-Preis
LOCATION:Tafelhalle\, Äußere Sulzbacher Str. 62\, 90491 Nürnberg
STATUS:CONFIRMED
END:VEVENT
END:VCALENDAR