BEGIN:VCALENDAR
VERSION:2.0
PRODID:-//Doppelpunkt//Events//DE
CALSCALE:GREGORIAN
METHOD:PUBLISH
BEGIN:VEVENT
UID:event-2630@www.doppelpunkt.de
DTSTAMP:20260421T111545
DTSTART:20260220T200000
DTEND:20260220T200000
SUMMARY:HG Butzko: "Der will nicht nur spielen"\, Kabarett
LOCATION:Nürnberger Burgtheater\, Füll 13\, 90403 Nürnberg
STATUS:CONFIRMED
END:VEVENT
END:VCALENDAR