BEGIN:VCALENDAR
VERSION:2.0
PRODID:-//Doppelpunkt//Events//DE
CALSCALE:GREGORIAN
METHOD:PUBLISH
BEGIN:VEVENT
UID:event-2629@www.doppelpunkt.de
DTSTAMP:20260421T111600
DTSTART:20260213T200000
DTEND:20260213T200000
SUMMARY:Vanessa Maurischat: "Zündstoff"\, Kabarett
LOCATION:Nürnberger Burgtheater\, Füll 13\, 90403 Nürnberg
STATUS:CONFIRMED
END:VEVENT
END:VCALENDAR