BEGIN:VCALENDAR
VERSION:2.0
PRODID:-//Doppelpunkt//Events//DE
CALSCALE:GREGORIAN
METHOD:PUBLISH
BEGIN:VEVENT
UID:event-2626@www.doppelpunkt.de
DTSTAMP:20260425T141957
DTSTART:20260130T200000
DTEND:20260131T235900
SUMMARY:Mäc Härder: "Leben beginnt\, wenn Hund tot und Kinder aus dem Haus"\, Kabarett
LOCATION:Nürnberger Burgtheater\, Füll 13\, 90403 Nürnberg
STATUS:CONFIRMED
END:VEVENT
END:VCALENDAR