BEGIN:VCALENDAR
VERSION:2.0
PRODID:-//Doppelpunkt//Events//DE
CALSCALE:GREGORIAN
METHOD:PUBLISH
BEGIN:VEVENT
UID:event-2624@www.doppelpunkt.de
DTSTAMP:20260425T161446
DTSTART:20260123T200000
DTEND:20260123T200000
SUMMARY:Hans Gerzlich: "Ich hatte mich jünger in Erinnerung"\, Comedy
LOCATION:Nürnberger Burgtheater\, Füll 13\, 90403 Nürnberg
STATUS:CONFIRMED
END:VEVENT
END:VCALENDAR