BEGIN:VCALENDAR
VERSION:2.0
PRODID:-//Doppelpunkt//Events//DE
CALSCALE:GREGORIAN
METHOD:PUBLISH
BEGIN:VEVENT
UID:event-2623@www.doppelpunkt.de
DTSTAMP:20260425T140423
DTSTART:20260117T200000
DTEND:20260117T200000
SUMMARY:Nektarios Vlachopoulos: "Der beste Tag der Welt"\, Comedy
LOCATION:Nürnberger Burgtheater\, Füll 13\, 90403 Nürnberg
STATUS:CONFIRMED
END:VEVENT
END:VCALENDAR