BEGIN:VCALENDAR
VERSION:2.0
PRODID:-//Doppelpunkt//Events//DE
CALSCALE:GREGORIAN
METHOD:PUBLISH
BEGIN:VEVENT
UID:event-2621@www.doppelpunkt.de
DTSTAMP:20260425T123808
DTSTART:20251220T200000
DTEND:20251220T200000
SUMMARY:Korff/Ludewig: "Weihnachten hat doch mal Spaß gemacht"\, Musik-Kabarett
LOCATION:Nürnberger Burgtheater\, Füll 13\, 90403 Nürnberg
STATUS:CONFIRMED
END:VEVENT
END:VCALENDAR