BEGIN:VCALENDAR
VERSION:2.0
PRODID:-//Doppelpunkt//Events//DE
CALSCALE:GREGORIAN
METHOD:PUBLISH
BEGIN:VEVENT
UID:event-2619@www.doppelpunkt.de
DTSTAMP:20260425T123926
DTSTART:20251212T200000
DTEND:20251212T200000
SUMMARY:Irmgard Knef: "Noch da! 100 Jahr\, blondes Haar"\, Chanson-Kabarett
LOCATION:Nürnberger Burgtheater\, Füll 13\, 90403 Nürnberg
STATUS:CONFIRMED
END:VEVENT
END:VCALENDAR