BEGIN:VCALENDAR
VERSION:2.0
PRODID:-//Doppelpunkt//Events//DE
CALSCALE:GREGORIAN
METHOD:PUBLISH
BEGIN:VEVENT
UID:event-2614@www.doppelpunkt.de
DTSTAMP:20260421T111559
DTSTART:20260222T193000
DTEND:20260222T193000
SUMMARY:Manuel Rubey & Simon Schwarz  „Das Restaurant“\, Kabarett
LOCATION:Stadttheater Fürth\, Königstr. 116\, 90762 Fürth
STATUS:CONFIRMED
END:VEVENT
END:VCALENDAR