BEGIN:VCALENDAR
VERSION:2.0
PRODID:-//Doppelpunkt//Events//DE
CALSCALE:GREGORIAN
METHOD:PUBLISH
BEGIN:VEVENT
UID:event-2613@www.doppelpunkt.de
DTSTAMP:20260421T111547
DTSTART:20260221T193000
DTEND:20260221T193000
SUMMARY:Vicky Voyage: "Drag Voyage"\, Drag-Show
LOCATION:Stadttheater Fürth\, Königstr. 116\, 90762 Fürth
STATUS:CONFIRMED
END:VEVENT
END:VCALENDAR