BEGIN:VCALENDAR
VERSION:2.0
PRODID:-//Doppelpunkt//Events//DE
CALSCALE:GREGORIAN
METHOD:PUBLISH
BEGIN:VEVENT
UID:event-2607@www.doppelpunkt.de
DTSTAMP:20260421T105720
DTSTART:20260212T193000
DTEND:20260212T193000
SUMMARY:Tim Fischer singt Hildegard Knef
LOCATION:Stadttheater Fürth\, Königstr. 116\, 90762 Fürth
STATUS:CONFIRMED
END:VEVENT
END:VCALENDAR