BEGIN:VCALENDAR
VERSION:2.0
PRODID:-//Doppelpunkt//Events//DE
CALSCALE:GREGORIAN
METHOD:PUBLISH
BEGIN:VEVENT
UID:event-2605@www.doppelpunkt.de
DTSTAMP:20260419T165527
DTSTART:20260206T193000
DTEND:20260206T193000
SUMMARY:Mellow: "Blow Your Mind"\, Magie/Zaubershow
LOCATION:Stadttheater Fürth\, Königstr. 116\, 90762 Fürth
STATUS:CONFIRMED
END:VEVENT
END:VCALENDAR