BEGIN:VCALENDAR
VERSION:2.0
PRODID:-//Doppelpunkt//Events//DE
CALSCALE:GREGORIAN
METHOD:PUBLISH
BEGIN:VEVENT
UID:event-2603@www.doppelpunkt.de
DTSTAMP:20260425T142045
DTSTART:20260204T193000
DTEND:20260204T193000
SUMMARY:Autorenlesung mit Benjamin von Stuckrad-Barre: „Noch wach?“
LOCATION:Stadttheater Fürth\, Königstr. 116\, 90762 Fürth
STATUS:CONFIRMED
END:VEVENT
END:VCALENDAR