BEGIN:VCALENDAR
VERSION:2.0
PRODID:-//Doppelpunkt//Events//DE
CALSCALE:GREGORIAN
METHOD:PUBLISH
BEGIN:VEVENT
UID:event-2602@www.doppelpunkt.de
DTSTAMP:20260421T111646
DTSTART:20260203T193000
DTEND:20260203T193000
SUMMARY:Chicos Mambo\, Frankreich: "Tutu"\, Tanztheater
LOCATION:Stadttheater Fürth\, Königstr. 116\, 90762 Fürth
STATUS:CONFIRMED
END:VEVENT
END:VCALENDAR