BEGIN:VCALENDAR
VERSION:2.0
PRODID:-//Doppelpunkt//Events//DE
CALSCALE:GREGORIAN
METHOD:PUBLISH
BEGIN:VEVENT
UID:event-2601@www.doppelpunkt.de
DTSTAMP:20260421T145833
DTSTART:20260128T193000
DTEND:20260201T235900
SUMMARY:Xiexin Dance Theatre\, China: "From In"\, Tanztheater
LOCATION:Stadttheater Fürth\, Königstr. 116\, 90762 Fürth
STATUS:CONFIRMED
END:VEVENT
END:VCALENDAR