BEGIN:VCALENDAR
VERSION:2.0
PRODID:-//Doppelpunkt//Events//DE
CALSCALE:GREGORIAN
METHOD:PUBLISH
BEGIN:VEVENT
UID:event-2600@www.doppelpunkt.de
DTSTAMP:20260425T135354
DTSTART:20260125T170000
DTEND:20260125T170000
SUMMARY:ATZE Musiktheater\, Berlin: "Bach - Das Leben eines Musikers"\, Musiktheater von Thomas Sutter
LOCATION:Stadttheater Fürth\, Königstr. 116\, 90762 Fürth
STATUS:CONFIRMED
END:VEVENT
END:VCALENDAR