BEGIN:VCALENDAR
VERSION:2.0
PRODID:-//Doppelpunkt//Events//DE
CALSCALE:GREGORIAN
METHOD:PUBLISH
BEGIN:VEVENT
UID:event-2598@www.doppelpunkt.de
DTSTAMP:20260425T142624
DTSTART:20260123T193000
DTEND:20260123T193000
SUMMARY:Musikalische Lesung mit Sky du Mont & Mirror Strings: "Im Spiegel"\, zeitgen. Literatur und Musik
LOCATION:Stadttheater Fürth\, Königstr. 116\, 90762 Fürth
STATUS:CONFIRMED
END:VEVENT
END:VCALENDAR