BEGIN:VCALENDAR
VERSION:2.0
PRODID:-//Doppelpunkt//Events//DE
CALSCALE:GREGORIAN
METHOD:PUBLISH
BEGIN:VEVENT
UID:event-2597@www.doppelpunkt.de
DTSTAMP:20260425T141819
DTSTART:20260122T193000
DTEND:20260122T193000
SUMMARY:Tobias Wegner: "LEO - Ein Spektakel jenseits der Schwerkraft"\, Akrobatik/Projektions-Show
LOCATION:Stadttheater Fürth\, Königstr. 116\, 90762 Fürth
STATUS:CONFIRMED
END:VEVENT
END:VCALENDAR