BEGIN:VCALENDAR
VERSION:2.0
PRODID:-//Doppelpunkt//Events//DE
CALSCALE:GREGORIAN
METHOD:PUBLISH
BEGIN:VEVENT
UID:event-2596@www.doppelpunkt.de
DTSTAMP:20260425T135318
DTSTART:20260120T193000
DTEND:20260121T235900
SUMMARY:Hamburger Kammerspiele: "Alice – Spiel um Dein Leben"\, Musikalisches Theaterstück von Kim Langner
LOCATION:Stadttheater Fürth\, Königstr. 116\, 90762 Fürth
STATUS:CONFIRMED
END:VEVENT
END:VCALENDAR