BEGIN:VCALENDAR
VERSION:2.0
PRODID:-//Doppelpunkt//Events//DE
CALSCALE:GREGORIAN
METHOD:PUBLISH
BEGIN:VEVENT
UID:event-2595@www.doppelpunkt.de
DTSTAMP:20260425T135757
DTSTART:20260117T193000
DTEND:20260117T193000
SUMMARY:Walter Sittler\, Lea-Marie Sittler & Die Sextanten: "Gestatten\, Kästner!"\, literarisch-musikalische Revue
LOCATION:Stadttheater Fürth\, Königstr. 116\, 90762 Fürth
STATUS:CONFIRMED
END:VEVENT
END:VCALENDAR