BEGIN:VCALENDAR
VERSION:2.0
PRODID:-//Doppelpunkt//Events//DE
CALSCALE:GREGORIAN
METHOD:PUBLISH
BEGIN:VEVENT
UID:event-2591@www.doppelpunkt.de
DTSTAMP:20260421T120545
DTSTART:20260110T193000
DTEND:20260110T193000
SUMMARY:Euro-Studio Landgraf: "Achtsam morden"\, Komödie nach Karsten Dusse
LOCATION:Stadttheater Fürth\, Königstr. 116\, 90762 Fürth
STATUS:CONFIRMED
END:VEVENT
END:VCALENDAR