BEGIN:VCALENDAR
VERSION:2.0
PRODID:-//Doppelpunkt//Events//DE
CALSCALE:GREGORIAN
METHOD:PUBLISH
BEGIN:VEVENT
UID:event-2590@www.doppelpunkt.de
DTSTAMP:20260421T032107
DTSTART:20260105T193000
DTEND:20260105T193000
SUMMARY:Stuttgarter Philharmoniker: Neujahrskonzert\, Werke der Strauss-Dynastie und Konzerte für Alphorn\, Theremin und Stepptanz
LOCATION:Stadttheater Fürth\, Königstr. 116\, 90762 Fürth
STATUS:CONFIRMED
END:VEVENT
END:VCALENDAR