BEGIN:VCALENDAR
VERSION:2.0
PRODID:-//Doppelpunkt//Events//DE
CALSCALE:GREGORIAN
METHOD:PUBLISH
BEGIN:VEVENT
UID:event-2588@www.doppelpunkt.de
DTSTAMP:20260425T123001
DTSTART:20251212T200000
DTEND:20251212T200000
SUMMARY:Michael Altinger: "Auch das Christkind muss dran glauben"\, Kabarett
LOCATION:Jegelscheune\, Forststr. 2\, 90530 Wendelstein
STATUS:CONFIRMED
END:VEVENT
END:VCALENDAR